BEGIN:VCALENDAR
VERSION:2.0
PRODID:-//Magic Garden Battersea - ECPv5.7.0//NONSGML v1.0//EN
CALSCALE:GREGORIAN
METHOD:PUBLISH
X-WR-CALNAME:Magic Garden Battersea
X-ORIGINAL-URL:https://devsitemagicgarden.magicgardenpub.com
X-WR-CALDESC:Events for Magic Garden Battersea
BEGIN:VTIMEZONE
TZID:Europe/London
BEGIN:DAYLIGHT
TZOFFSETFROM:+0000
TZOFFSETTO:+0100
TZNAME:BST
DTSTART:20210328T010000
END:DAYLIGHT
BEGIN:STANDARD
TZOFFSETFROM:+0100
TZOFFSETTO:+0000
TZNAME:GMT
DTSTART:20211031T010000
END:STANDARD
END:VTIMEZONE
BEGIN:VEVENT
DTSTART;TZID=Europe/London:20210807T200000
DTEND;TZID=Europe/London:20210808T020000
DTSTAMP:20260422T124447
CREATED:20210720T183658Z
LAST-MODIFIED:20210720T183658Z
UID:320-1628366400-1628388000@devsitemagicgarden.magicgardenpub.com
SUMMARY:Bin Bag Wisdom/ Dj Striz at The Magic Garden
DESCRIPTION:Hip hop/ Funk/ Festival\n\n\nBin Bag Wisdom make golden-era Hip Hop that is transformed into clever modern-day observations on society\, simultaneously abstract and astute. Driven by the towering delivery of Mc Binbags these guys never fail to get the crowd jumping\, and yet there music enters realms much deeper than purely party music. \n \nWith intelligent rhymes and a rare knack of being both self assured and self-deprecating their music is equally as powerful when kicking back in the armchair and absorbing their witty realism. Essentially BinBag wisdom achieve what so much modern rap doesn’t – original\, insightful\, playful and banging! \n——— \nDJ STIRZ  (Slamboree) loves nothing more than to tangle you into impossible shapes with an impressively eclectic selection of bass-heavy tracks! STIRZ produces bass music packed with home grown samples and tasteful genre twists. STIRZ is also a Jungle drummer and plays with Slamboree amongst various other artists in the UK. Charlie STIRZaker has been DJing a big mixed bag of beats in clubs and festivals in the UK and internationally since 2006\, it is now time to launch a project which will provide a platform for STIRZ releases and performances with both drums and decks. Guaranteed to have you raving!
URL:https://devsitemagicgarden.magicgardenpub.com/event/bin-bag-wisdom-dj-striz-at-the-magic-garden/
LOCATION:The Magic Garden\, 231 Battersea Park Road\, London\, SW11 4LG\, London\, SW11 4LG\, GB
ATTACH;FMTTYPE=image/jpeg:https://devsitemagicgarden.magicgardenpub.com/wp-content/uploads/2021/07/320_image-scaled.jpg
END:VEVENT
END:VCALENDAR