BEGIN:VCALENDAR
VERSION:2.0
PRODID:-//Magic Garden Battersea - ECPv5.7.0//NONSGML v1.0//EN
CALSCALE:GREGORIAN
METHOD:PUBLISH
X-WR-CALNAME:Magic Garden Battersea
X-ORIGINAL-URL:https://devsitemagicgarden.magicgardenpub.com
X-WR-CALDESC:Events for Magic Garden Battersea
BEGIN:VTIMEZONE
TZID:Europe/London
BEGIN:DAYLIGHT
TZOFFSETFROM:+0000
TZOFFSETTO:+0100
TZNAME:BST
DTSTART:20210328T010000
END:DAYLIGHT
BEGIN:STANDARD
TZOFFSETFROM:+0100
TZOFFSETTO:+0000
TZNAME:GMT
DTSTART:20211031T010000
END:STANDARD
END:VTIMEZONE
BEGIN:VEVENT
DTSTART;TZID=Europe/London:20210814T200000
DTEND;TZID=Europe/London:20210815T020000
DTSTAMP:20260422T112408
CREATED:20210720T183945Z
LAST-MODIFIED:20210720T184133Z
UID:332-1628971200-1628992800@devsitemagicgarden.magicgardenpub.com
SUMMARY:Aondo / DJ Special Guest - at The Magic Garden
DESCRIPTION:trip-hop / electronica / live sampling\n\n\nAondo unites compelling electronic beats and organic melodies with the insights and experiences of two lives spent exploring the mountains. \nComprised of multi-instrumentalists\, Kyle and Rob\, Aondo’s music takes inspiration from their time spent wandering. They have built a project centred around the art and music of their experiences in the mountains. \nThe live band will feature guest singers and world class live musicians to bring the electronic sounds to an analogue medium. \nkyleblackburn.co.uk/aondo \n \nDJ: Special Guest
URL:https://devsitemagicgarden.magicgardenpub.com/event/aondo-dj-special-guest-at-the-magic-garden/
LOCATION:The Magic Garden\, 231 Battersea Park Road\, London\, SW11 4LG\, London\, SW11 4LG\, GB
ATTACH;FMTTYPE=image/jpeg:https://devsitemagicgarden.magicgardenpub.com/wp-content/uploads/2021/07/332_image-scaled.jpg
END:VEVENT
BEGIN:VEVENT
DTSTART;TZID=Europe/London:20210813T200000
DTEND;TZID=Europe/London:20210814T020000
DTSTAMP:20260422T112408
CREATED:20210720T183906Z
LAST-MODIFIED:20210720T184059Z
UID:328-1628884800-1628906400@devsitemagicgarden.magicgardenpub.com
SUMMARY:Malika Collective / DJ Captain Flatcap at The Magic Garden
DESCRIPTION:Malika All Stars are an experimental London based musical collective they share the bill with DJ Captain Flatpack which means good times!!\n\n\nMalika Collective are an experimental South London based musical collective. Exploring a wide range of musical styles from Afro cuban\, Latin jazz and psychedelic soundscapes. \nMalika Collective was born out of jam sessions and collaborations between George Risk (Guitarist and Band Leader) and Ru Lemer (Keyboards and Engineer). With the addition of a host of musicians from London’s thriving jazz and session scene; the Collective was born into an evolving line-up including multiple drum kits\, a powerful rhythm section and some ferocious horns. Playing rhythmic music from around the world\, this band draws on a range of traditional and modern genres to bring you passionate groove with a psychedelic edge. \n \nDJ CAPTAIN FLATCAP \nDJ Captain Flatcap plays  multi-genre\, instrumental Electronic Dance Music.Captain’s DJ sets\, is centred around electro swing\, but also includes influences of ska\, funk\, folk and various genres of dance music.
URL:https://devsitemagicgarden.magicgardenpub.com/event/malika-collective-dj-captain-flatcap-at-the-magic-garden/
LOCATION:The Magic Garden\, 231 Battersea Park Road\, London\, SW11 4LG\, London\, SW11 4LG\, GB
ATTACH;FMTTYPE=image/jpeg:https://devsitemagicgarden.magicgardenpub.com/wp-content/uploads/2021/07/328_image-scaled.jpg
END:VEVENT
BEGIN:VEVENT
DTSTART;TZID=Europe/London:20210812T193000
DTEND;TZID=Europe/London:20210813T000000
DTSTAMP:20260422T112408
CREATED:20210720T183836Z
LAST-MODIFIED:20210720T183836Z
UID:324-1628796600-1628812800@devsitemagicgarden.magicgardenpub.com
SUMMARY:Casa De Salsa - ft Sarabanda
DESCRIPTION:‘HOT CUBAN SALSA AND SON WITH A SERIOUSGROOVE’\n\n\nSarabanda are sure to fill the dance floor with their glorious mix of Cuban rhythms. Sliding effortlessly between classic Cuban chacha cha\, mambo and son to the latest hot timba\, salsa and Latin jazz\, this isCuban music at its very finest.  \n \nSara McGuinness (bandleader) was awarded UK Lukas AwardsLatin Musician of the Year 2018 \nSarabanda’s obvious love of the music they play is evidentin the passionate and exuberant arrangements of Cuban songs both classic andmodern.  The fabulous singer ElpidioAlegria\, hailing from Buenaventura on Colombia’s pacific coast\, is much indemand for his fantastic vocal talents. Combine this with the blisteringkeyboards of Sara McGuinness and solid bass grooves from Jimmy Martinezsupported by a steaming percussion section and you can’t go wrong.  \nThe band regularly pack the house out Upstairs at RonnieScotts\, London. Whatever the occasion\, if you want authentic Cuban musicSarabanda is the choice for you!
URL:https://devsitemagicgarden.magicgardenpub.com/event/casa-de-salsa-ft-sarabanda/
LOCATION:The Magic Garden\, 231 Battersea Park Road\, London\, SW11 4LG\, London\, SW11 4LG\, GB
ATTACH;FMTTYPE=image/jpeg:https://devsitemagicgarden.magicgardenpub.com/wp-content/uploads/2021/07/324_image-scaled.jpg
END:VEVENT
BEGIN:VEVENT
DTSTART;TZID=Europe/London:20210807T200000
DTEND;TZID=Europe/London:20210808T020000
DTSTAMP:20260422T112408
CREATED:20210720T183658Z
LAST-MODIFIED:20210720T183658Z
UID:320-1628366400-1628388000@devsitemagicgarden.magicgardenpub.com
SUMMARY:Bin Bag Wisdom/ Dj Striz at The Magic Garden
DESCRIPTION:Hip hop/ Funk/ Festival\n\n\nBin Bag Wisdom make golden-era Hip Hop that is transformed into clever modern-day observations on society\, simultaneously abstract and astute. Driven by the towering delivery of Mc Binbags these guys never fail to get the crowd jumping\, and yet there music enters realms much deeper than purely party music. \n \nWith intelligent rhymes and a rare knack of being both self assured and self-deprecating their music is equally as powerful when kicking back in the armchair and absorbing their witty realism. Essentially BinBag wisdom achieve what so much modern rap doesn’t – original\, insightful\, playful and banging! \n——— \nDJ STIRZ  (Slamboree) loves nothing more than to tangle you into impossible shapes with an impressively eclectic selection of bass-heavy tracks! STIRZ produces bass music packed with home grown samples and tasteful genre twists. STIRZ is also a Jungle drummer and plays with Slamboree amongst various other artists in the UK. Charlie STIRZaker has been DJing a big mixed bag of beats in clubs and festivals in the UK and internationally since 2006\, it is now time to launch a project which will provide a platform for STIRZ releases and performances with both drums and decks. Guaranteed to have you raving!
URL:https://devsitemagicgarden.magicgardenpub.com/event/bin-bag-wisdom-dj-striz-at-the-magic-garden/
LOCATION:The Magic Garden\, 231 Battersea Park Road\, London\, SW11 4LG\, London\, SW11 4LG\, GB
ATTACH;FMTTYPE=image/jpeg:https://devsitemagicgarden.magicgardenpub.com/wp-content/uploads/2021/07/320_image-scaled.jpg
END:VEVENT
BEGIN:VEVENT
DTSTART;TZID=Europe/London:20210806T200000
DTEND;TZID=Europe/London:20210807T023000
DTSTAMP:20260422T112408
CREATED:20210720T183539Z
LAST-MODIFIED:20210720T183539Z
UID:316-1628280000-1628303400@devsitemagicgarden.magicgardenpub.com
SUMMARY:GRUPO LOKITO / DJ SPECIAL TERRY - The Magic Garden
DESCRIPTION:‘‘THE CONGO MEETS CUBA IN AN EXUBERANT EXPLOSION OF MUSIC’\n\n\nGrupo Lokito create a modern-day cocktail of two of the great world musics; Fusing blistering contemporaryCongolese grooves with the fire of Cuban music. The results have audiences dancing in a haze of energy. \nThe glorious melodious vocals ofCongolese front men Eugene Makuta and Iddo \nDonnatella blends with soaring guitars courtesy of Congolese guitar hero Mbokalia ‘Burkina Faso’\, and the lilting keyboards of Latin piano player Sara. All of this sits on top of the rhythmic powerhouse team of Ernesto(drums)\, Emeris (congas)\,Elpidio (bass) and Shyam(rhythm guitar). \nSince their formation in 2006 the bandhave gone from strength to strength\, completing several UK tours and building a solid following. \nInMay 2020 Grupo Lokito were awarded an Arts Council grant to make music during lockdown and the band released three tunes on digital platforms: Yoka!\, ¡Lo QuePasó! and Bolingo Ya Londres. Some more exciting new sounds are cooking in preparation for a vinyl release later this year.  \n \nBandcamp:https://grupolokito.bandcamp.com/ \nYoutube: https://www.youtube.com/playlist?list=PLPtcJ8i8EMN2W3-e68N8Q-o9ysc7nuaHs \nWebsite: www.grupolokito.co.uk \n \n DJ SPECIAL TERRY plays a unique selection of old skool Hip-Hop\, Funk\, Disco\, Soul\, Jazz\, Afro Beat\, Breaks and many other rare gems to keep the dance floor happy!
URL:https://devsitemagicgarden.magicgardenpub.com/event/grupo-lokito-dj-special-terry-the-magic-garden/
LOCATION:The Magic Garden\, 231 Battersea Park Road\, London\, SW11 4LG\, London\, SW11 4LG\, GB
ATTACH;FMTTYPE=image/jpeg:https://devsitemagicgarden.magicgardenpub.com/wp-content/uploads/2021/07/316_image-scaled.jpg
END:VEVENT
BEGIN:VEVENT
DTSTART;TZID=Europe/London:20210722T190000
DTEND;TZID=Europe/London:20210722T230000
DTSTAMP:20260422T112408
CREATED:20210510T094318Z
LAST-MODIFIED:20210513T083529Z
UID:121-1626980400-1626994800@devsitemagicgarden.magicgardenpub.com
SUMMARY:Gator Dogs Brass Band
DESCRIPTION:An all star horn section\, the Gator Dogs look forward to seeing you on the dance floor.\n\n\nThe Gator Dogs are a New Orleans brass gang from East London. They bring you an explosive party\, spanning Mardi Gras parade anthems to the swampy grooves of Dr John\, via raucous Gospel more suitable for Saturday Night than Sunday Morning. \nWith three percussionists\, a thumping tuba\, as many horns as we can fit on the stage\, and 3 part Gospel harmonies; the Gators bring you infectious grooves\, virtuoso solos and songs you didn’t know you already knew. \nThe Gators love playing raucous speakeasy-style nights at infamous underground cocktail haunts the Oriole and Nightjar; performing for swing dancers at international events; and blasting the roof off at their Jamboree and the Blues Kitchens residencies\, where they keep the brassy party going well into the night. They have performed twice at the EFG London Jazz festival\, Shambala\, Rollright Fayre\, and internationally at The Gatsby Parties. In 2020\, they wowed crowds at West End immersive theatre show ‘Lockdown Town’\, receiving multiple 5* reviews across national media. \nHannah (percussion/vocals) has lived on/off in New Orleans since 2015\, recently studying drums with New Orleans legends Herlin Riley and Shannon Powell. George Simmonds (trombone/tuba/vocals) has performed with the infamous Glen David Andrews\, and Louise Balkwill (everything) is currently collaborating with New Orleans’ legend Leroy Jones on an original single. Backed up by Ed Ashby on Tuba\, (Hackney Colliery Band\, Brass Roots\, Royal Shakespeare Company)\, and an all star horn section\, the Gator Dogs look forward to seeing you on the dance floor. \nENTRY £2 to secure tables in music area \nTable booking is advised due to limited capacity
URL:https://devsitemagicgarden.magicgardenpub.com/event/gator-dogs-brass-band/
LOCATION:The Magic Garden\, 231 Battersea Park Road\, London\, SW11 4LG\, London\, SW11 4LG\, GB
ATTACH;FMTTYPE=image/png:https://devsitemagicgarden.magicgardenpub.com/wp-content/uploads/2021/05/121_image.png
END:VEVENT
BEGIN:VEVENT
DTSTART;TZID=Europe/London:20210618T190000
DTEND;TZID=Europe/London:20210619T020000
DTSTAMP:20260422T112408
CREATED:20210510T094256Z
LAST-MODIFIED:20210513T083703Z
UID:117-1624042800-1624068000@devsitemagicgarden.magicgardenpub.com
SUMMARY:James Riley Band at the Magic Garden
DESCRIPTION:James Riley\, award-winning folk & soul troubadour.\n\n\nAnglo-American and raised in London\, James followed his roots back to Nashville in 2015 for a short trip – which ended up becoming a 2-year odyssey. Whilst in Tennessee he met Grammy-winning producer Matthew Odmark\, and recorded his debut album “Transatlantica”.  \n \nSince returning to the UK\, James has been building towards his the release of his new record\, putting out teaser singles\, creating cinematic music videos\, and through a slew of live shows and festivals including Glastonbury\, Wilderness\, Shrewsbury Folk & Maverick\, slow-burning his way towards national notoriety– and heads have indeed begun turning. The past 18 months have seen James nominated for no fewer than 4 awards – as well as yielding national TV and radio coverage\, and international tours on both sides of the Atlantic.
URL:https://devsitemagicgarden.magicgardenpub.com/event/james-riley-band-at-the-magic-garden/
LOCATION:The Magic Garden\, 231 Battersea Park Road\, London\, SW11 4LG\, London\, SW11 4LG\, GB
ATTACH;FMTTYPE=image/jpeg:https://devsitemagicgarden.magicgardenpub.com/wp-content/uploads/2021/05/117_image-scaled.jpg
END:VEVENT
BEGIN:VEVENT
DTSTART;TZID=Europe/London:20210521T190000
DTEND;TZID=Europe/London:20210522T020000
DTSTAMP:20260422T112408
CREATED:20210510T094224Z
LAST-MODIFIED:20210513T084149Z
UID:113-1621623600-1621648800@devsitemagicgarden.magicgardenpub.com
SUMMARY:Jaz Delorean Trio at The Magic Garden
DESCRIPTION:Live music is finally back at The Magic Garden with acoustic sit down gigs in may\n\n\nJAZ DELOREAN TRIO \nJaz Delorean is a London based British singer\, with a colourful past and a fascinating present. The songs that he sings and plays on the piano are tender observations of our fragile and sometimes twisted existence. Strange things happen in dreams\, but stranger things can happen in waking life\, and Jaz Delorean has never shied away from baring his tattered soul to anyone willing to listen. He’ll pull at your heartstrings\, and get you dancing to the rhythms of his fingers\, before skulking off into the blackness behind the neon carnival lights. \n  \nJaz Delorean is the lead singer and pianist from tearaway live band Tankus the Henge.
URL:https://devsitemagicgarden.magicgardenpub.com/event/jaz-delorean-trio-at-the-magic-garden/
LOCATION:The Magic Garden\, 231 Battersea Park Road\, London\, SW11 4LG\, London\, SW11 4LG\, GB
ATTACH;FMTTYPE=image/jpeg:https://devsitemagicgarden.magicgardenpub.com/wp-content/uploads/2021/05/113_image.jpg
END:VEVENT
END:VCALENDAR